BEGIN:VCALENDAR
VERSION:2.0
PRODID:-//Jameson Water Services - ECPv6.15.17.1//NONSGML v1.0//EN
CALSCALE:GREGORIAN
METHOD:PUBLISH
X-ORIGINAL-URL:https://www.jamesonwater.com
X-WR-CALDESC:Events for Jameson Water Services
REFRESH-INTERVAL;VALUE=DURATION:PT1H
X-Robots-Tag:noindex
X-PUBLISHED-TTL:PT1H
BEGIN:VTIMEZONE
TZID:America/Los_Angeles
BEGIN:DAYLIGHT
TZOFFSETFROM:-0800
TZOFFSETTO:-0700
TZNAME:PDT
DTSTART:20240310T100000
END:DAYLIGHT
BEGIN:STANDARD
TZOFFSETFROM:-0700
TZOFFSETTO:-0800
TZNAME:PST
DTSTART:20241103T090000
END:STANDARD
BEGIN:DAYLIGHT
TZOFFSETFROM:-0800
TZOFFSETTO:-0700
TZNAME:PDT
DTSTART:20250309T100000
END:DAYLIGHT
BEGIN:STANDARD
TZOFFSETFROM:-0700
TZOFFSETTO:-0800
TZNAME:PST
DTSTART:20251102T090000
END:STANDARD
BEGIN:DAYLIGHT
TZOFFSETFROM:-0800
TZOFFSETTO:-0700
TZNAME:PDT
DTSTART:20260308T100000
END:DAYLIGHT
BEGIN:STANDARD
TZOFFSETFROM:-0700
TZOFFSETTO:-0800
TZNAME:PST
DTSTART:20261101T090000
END:STANDARD
BEGIN:DAYLIGHT
TZOFFSETFROM:-0800
TZOFFSETTO:-0700
TZNAME:PDT
DTSTART:20270314T100000
END:DAYLIGHT
BEGIN:STANDARD
TZOFFSETFROM:-0700
TZOFFSETTO:-0800
TZNAME:PST
DTSTART:20271107T090000
END:STANDARD
END:VTIMEZONE
BEGIN:VTIMEZONE
TZID:America/Vancouver
BEGIN:DAYLIGHT
TZOFFSETFROM:-0800
TZOFFSETTO:-0700
TZNAME:PDT
DTSTART:20240310T100000
END:DAYLIGHT
BEGIN:STANDARD
TZOFFSETFROM:-0700
TZOFFSETTO:-0800
TZNAME:PST
DTSTART:20241103T090000
END:STANDARD
BEGIN:DAYLIGHT
TZOFFSETFROM:-0800
TZOFFSETTO:-0700
TZNAME:PDT
DTSTART:20250309T100000
END:DAYLIGHT
BEGIN:STANDARD
TZOFFSETFROM:-0700
TZOFFSETTO:-0800
TZNAME:PST
DTSTART:20251102T090000
END:STANDARD
BEGIN:DAYLIGHT
TZOFFSETFROM:-0800
TZOFFSETTO:-0700
TZNAME:PDT
DTSTART:20260308T100000
END:DAYLIGHT
BEGIN:STANDARD
TZOFFSETFROM:-0700
TZOFFSETTO:-0800
TZNAME:PST
DTSTART:20261101T090000
END:STANDARD
END:VTIMEZONE
BEGIN:VEVENT
DTSTART;VALUE=DATE:20250101
DTEND;VALUE=DATE:20270101
DTSTAMP:20260422T145329
CREATED:20240101T090029Z
LAST-MODIFIED:20250920T205747Z
UID:10000001-1735689600-1798761599@www.jamesonwater.com
SUMMARY:Small Water Systems - Correspondence (1.2 CEUs)
DESCRIPTION:This course covers all the knowledge a small water system operator needs and it meets the training requirements for the EOCP Small Water System Operator certification exam. \nPlease email scott@jamesonwater.com to register for this course.
URL:https://www.jamesonwater.com/event/small-water-systems-correspondence/
LOCATION:Self-paced correspondence course with email support.
CATEGORIES:Course
ATTACH;FMTTYPE=image/png:https://www.jamesonwater.com/wp-content/uploads/2024/01/Mt.-Currie-UV-system.png
ORGANIZER;CN="Jameson Water Services":MAILTO:jamesonwater@gmail.com
END:VEVENT
BEGIN:VEVENT
DTSTART;TZID=America/Vancouver:20251124T080000
DTEND;TZID=America/Vancouver:20251127T153000
DTSTAMP:20260422T145329
CREATED:20250920T205009Z
LAST-MODIFIED:20250920T205009Z
UID:10000010-1763971200-1764257400@www.jamesonwater.com
SUMMARY:Water Treatment Level I and II - Ucluelet - November  24-27th 2025
DESCRIPTION:This four-day course covers the required material for taking the EOCP Level I and II certification exam. \nParticipants earn 2.4 Continuing Education Units (CEUs) from the EOCP. \nTo register for this course please email scott@jamesonwater.com or call 250 882 0796. \nCourse topics include:\n• Regulations and standards for water treatment plants\n• Water quality and sampling techniques\n• Water treatment plant components and operation\n• Chlorine handling and disinfection procedures\n• Pump operation and maintenance\n• Calculations required for water treatment plant operators
URL:https://www.jamesonwater.com/event/water-treatment-level-i-and-ii-ucluelet-november-24-27th-2025/
LOCATION:Ucluelet Community Centre\, 500 Matterson Drive\, Ucluelet\, BC\, Canada
CATEGORIES:Course
ORGANIZER;CN="Jameson Water Services":MAILTO:jamesonwater@gmail.com
END:VEVENT
END:VCALENDAR